BEGIN:VCALENDAR
VERSION:2.0
PRODID:-//Made in UAE Gate | منصة صنع في الامارت - ECPv6.9.0//NONSGML v1.0//EN
CALSCALE:GREGORIAN
METHOD:PUBLISH
X-ORIGINAL-URL:https://madeinuaegate.ae
X-WR-CALDESC:Events for Made in UAE Gate | منصة صنع في الامارت
REFRESH-INTERVAL;VALUE=DURATION:PT1H
X-Robots-Tag:noindex
X-PUBLISHED-TTL:PT1H
BEGIN:VTIMEZONE
TZID:UTC
BEGIN:STANDARD
TZOFFSETFROM:+0000
TZOFFSETTO:+0000
TZNAME:UTC
DTSTART:20240101T000000
END:STANDARD
END:VTIMEZONE
BEGIN:VEVENT
DTSTART;TZID=UTC:20240205T080000
DTEND;TZID=UTC:20240205T170000
DTSTAMP:20260423T034156
CREATED:20240205T121744Z
LAST-MODIFIED:20240205T121744Z
UID:2867-1707120000-1707152400@madeinuaegate.ae
SUMMARY:Dubai Wood show
DESCRIPTION:Dubai WoodshowÂ is an international exhibition that presents products and services in categories such as: \n\nWOOD WORKING MACHINERIES\nTimber processing \, Laminating equipments\, Molding\, beading\, wainscoting\, paneling Lathes\, Cladding \, Molding machines/molders\, Wood treatment plants \, Particle board plant\, Blades and knives \, Plywood manufacturing machinery\, Bleaching plants \, Profile cutting and forming machine\, Boring &Combining machines \, Press and press plates\, Cutting machines & tools \, Pulp preparation equipment\, Dowelling machines \, Rounding\, Spindling and Turning machines\, Drying klin equipments\, Sanding and polishing machines\, Dust control equipments \, Saws and sawing machines\, Edge benders/trimmers \, Specialized wood production plant\, Fastening system \, Vacuum cleaners\, Gluing and fixing machine \, Veneering machines and plants\, Joinery and assembly machines \, Woodworking machinery\nWOOD PRODUCTS\nWooden decorative materials and units\, Finishing and fittings\, Wooden furniture units\, Furniture manufacturing supplies\, hardwood and softwood Kitchen cabinets\, Timber\, Treatment products\, Plywoods and hardboards\, Related publication\, All kinds of panels\, Wood and Timber flooring\, Chipboard and MDF Profile\, Wooden crafts and art\, Polishing products\, Wood raw materials\, Spraying equipments\, Papers and cardboard\, Staplers\, Wood and paper recycle\, Surface treatments and finishing tools\, All related forest products\, Veneer\, Pinning Gun\, Pneumatic Nail\, Related personal protective equipments\, Timber-based technical solutions\, Glue and fixing products\, Wooden windows and doors\, Laminator\, Exotic pieces\, Outdoor Furniture\, Decoratives and Composites\n\nDubai Woodshow brings together wood suppliers\, wood distributors\, furniture manufacturers\, interior designers\, wood wholesale traders & retailers\, carpenters\, construction suppliers\, building material manufacturers and project developers.
URL:https://madeinuaegate.ae/event/dubai-wood-show/
ATTACH;FMTTYPE=image/png:https://madeinuaegate.ae/wp-content/uploads/2024/02/download-6.png
END:VEVENT
BEGIN:VEVENT
DTSTART;TZID=UTC:20240205T100000
DTEND;TZID=UTC:20240205T180000
DTSTAMP:20260423T034156
CREATED:20240204T151622Z
LAST-MODIFIED:20240204T151622Z
UID:2169-1707127200-1707156000@madeinuaegate.ae
SUMMARY:Medlab Middle East
DESCRIPTION:Now in its 23rd year\, Medlab Middle East has garnered a world-leading reputation as a forum where major advances in laboratory medicine take shape\, progress and â€“ perhaps most importantly of all â€“ deliver. \n\n\n\nRecently\, this impact has been particularly evident in the area of sustainable solutions. The 2024 edition promises to be another landmark moment in the sectorâ€™s trajectory. \n\n\n\nIt will also be one of Medlabâ€™s biggest editions to date. For 2024\, the event has massively increased its footprint\, in order to accommodate three times the number of exhibitors as participated previously. Given that the 2023 show generated US$523.9m of business\, the commercial value of this yearâ€™s show to the industry is therefore expected to be significant. These exhibitors will be arranged across eight dedicated product categories: disposables; healthcare and general services; imaging; infrastructure; IT; laboratory; medical equipment; and pharma/nutrition. \n\n\n\nAlongside the trade show component\, there will also be another edition of the Medlab Middle East Congress\, offering 12 CME-accredited in-person conferences and hosting a series of world-class speakers and professionals.Â Topics featured at the Congress will include laboratory management; haematology; clinical chemistry; immunology and more.
URL:https://madeinuaegate.ae/event/medlab-middle-east/
ATTACH;FMTTYPE=image/png:https://madeinuaegate.ae/wp-content/uploads/2024/02/download-3.png
END:VEVENT
END:VCALENDAR