BEGIN:VCALENDAR
VERSION:2.0
PRODID:-//Made in UAE Gate | منصة صنع في الامارت - ECPv6.9.0//NONSGML v1.0//EN
CALSCALE:GREGORIAN
METHOD:PUBLISH
X-ORIGINAL-URL:https://madeinuaegate.ae
X-WR-CALDESC:Events for Made in UAE Gate | منصة صنع في الامارت
REFRESH-INTERVAL;VALUE=DURATION:PT1H
X-Robots-Tag:noindex
X-PUBLISHED-TTL:PT1H
BEGIN:VTIMEZONE
TZID:UTC
BEGIN:STANDARD
TZOFFSETFROM:+0000
TZOFFSETTO:+0000
TZNAME:UTC
DTSTART:20240101T000000
END:STANDARD
END:VTIMEZONE
BEGIN:VEVENT
DTSTART;TZID=UTC:20240208T080000
DTEND;TZID=UTC:20240209T170000
DTSTAMP:20260423T035013
CREATED:20240205T121729Z
LAST-MODIFIED:20240205T121729Z
UID:2851-1707379200-1707498000@madeinuaegate.ae
SUMMARY:INTERNATIONAL CROP-SCIENCE EXHIBITION 2024
DESCRIPTION:INTERNATIONAL CROP-SCIENCE EXHIBITION\, INDIAâ€™S BIGGEST AGRI INPUTSTRADE Show with Concurrent Plenary SessionÂ to be organized on 8th & 9th February 2024 JW Mariott\, Marquis Dubai\, UAE. \nAfter the immense success of the 17th Edition of INTERNATIONAL CROP-SCIENCE CONFERENCE & EXHIBITION(ICSCE) held in February 2023\, the 19th Edition of ICSCE is being organized in Dubai -UAE for third consecutive year. ICSCE is INDIAâ€™S BIGGEST AGRI INPUTS Trade show with concurrent Exhibition driving Business Opportunities for agribusinesses for knowledge sharing and B2B \nThe ICSCE provides great Opportunity to stand distinguished amongst more than 1000 delegates to promote the business\, network\, gain ample knowledge of Industry. You can choose from various types of Sponsorshipâ€™s and exhibiting opportunities/meeting rooms for one-one meetings. Position yourself and stand out from others. The 17th Edition of ICSCE 2023\, saw 1500 footfalls to the exhibition from Asia\, South America\, North America\, Oceania\, Africa\, GCC & MENA Region and Europe. \nICSCE is a biggest and only Agri Input event for : \n\nAgrochemicals (includes Fungicides\, Herbicides\, Insecticides)\nBioproducts (includes Bio pesticides\, Bio Fertilizers\, Bio stimulants and all biological products)\nAI and intermediate ( solvents\, Surfactants\, intermediates etc.)\nFertilizer\nPackaging\nSeeds\nStorage & Logistics\nResearch Laboratories\n\nAbout ICSCE Page \nICSCE event is attended for knowledge-oriented conference session to gain extensive knowledge in workshop and for networking of global leaders to explore business opportunities. Be Part of Exclusive networking event. \nThe event would also host PMFAI- SML Annual Agchem Awards ceremony at the gala night to award the contribution by the Industry in various category\, witness the ceremony to know emerging global leaders from India. \nAttendee Profile: \n\nDistributors & Suppliers\nR&D Executives\nTechnical Executives\nManufacturers & formulators\nConsultants\nExporters & Importers\nAllied Chemicals & Packaging material suppliers\nSeed companies\nplantation and horticultural producers\nManufacturers & Distributors of Bio-pesticides( Bio-fertilizers\, Micronutrients\, Biostimulants)\,\nKey Government officials\nPolicy Makers & Researchers\nIndustry Associations\, Chamber of Commerce\nAgronomists\nResearch Institutions\nScientists\nTraders\nJournalists\nSupply chain management & co-operatives\nVentures capitalists & Financial Representatives\nService providers\nFarmers & dealers\n\nand all those involved directly & indirectly with agri inputs. \nAttend to \n\nMeet Executives of Top Agri Input Companies\nBuild Brand Awareness\nGenerate New Markets\, Sales Leads and Business Network\nNetwork With More Than 800 Professional Visitors from World Over for knowsharing and B2B\nOne To One Interaction Between the Buyers and Sellers\nKeep In Touch with Existing Customers\, Cooperation Partners\, Agents\, Distributors Etc.\nMeet New Customers\nOpportunity For Market Researchâ€“ Trade Fairs Are an Excellent Environment To Test Customer Behaviour\, Trends\, Product Acceptance etc.\nKeep update on New Product launch\nKnow your product position in the market\nLearn new Agrochemical Market development\nIncrease presence on global Platform\nGain Knowledge From Two Days Conference & Workshops\nWitness PMFAI-SML Annual Agchem Awards\nKnow about your competitors\n\nExhibition- is a platform for participating enterprises to reach into the international market\, make new contacts and flourish their business. \nExhibitor Profile \n\nAgrochemical Manufacturers\, Formulators & Exporters Includesinsecticide\, fungicide\, herbicide\,\nBiological Agri inputs includes Biochemical pesticides\, Bio stimulant\, Bio Fertilizers Microbial pesticides\nAllied Chemicals includes raw materials for agrochemicals\, solvents\, surfactant\, formulating agents and speciality chemicals\nOthers: Research laboratories\, Storage & Logistics\, packaging material\, technological solution providers and those directly -indirectly associated with agri inputs.\n\nThe ICSCE provides great Opportunity to stand distinguished amongst more than 1200 delegates to promote the business\, and you may choose from various types of Sponsorshipâ€™s and exhibiting opportunities. Position yourself and stand out from others.
URL:https://madeinuaegate.ae/event/international-crop-science-exhibition-2024/
ATTACH;FMTTYPE=image/jpeg:https://madeinuaegate.ae/wp-content/uploads/2024/02/download-6.jpeg
END:VEVENT
END:VCALENDAR