BEGIN:VCALENDAR
VERSION:2.0
PRODID:-//Made in UAE Gate | منصة صنع في الامارت - ECPv6.9.0//NONSGML v1.0//EN
CALSCALE:GREGORIAN
METHOD:PUBLISH
X-WR-CALNAME:Made in UAE Gate | منصة صنع في الامارت
X-ORIGINAL-URL:https://madeinuaegate.ae
X-WR-CALDESC:Events for Made in UAE Gate | منصة صنع في الامارت
REFRESH-INTERVAL;VALUE=DURATION:PT1H
X-Robots-Tag:noindex
X-PUBLISHED-TTL:PT1H
BEGIN:VTIMEZONE
TZID:UTC
BEGIN:STANDARD
TZOFFSETFROM:+0000
TZOFFSETTO:+0000
TZNAME:UTC
DTSTART:20240101T000000
END:STANDARD
END:VTIMEZONE
BEGIN:VEVENT
DTSTART;TZID=UTC:20240212T080000
DTEND;TZID=UTC:20240214T170000
DTSTAMP:20260423T034141
CREATED:20240204T150651Z
LAST-MODIFIED:20240204T150651Z
UID:2158-1707724800-1707930000@madeinuaegate.ae
SUMMARY:International Search and Rescue Conference & Exhibition (INSRC 2024)
DESCRIPTION:National Search and Rescue Center will host the International Search and Rescue conference and exhibition 2024. The conference and the exhibition aims to attract specialised speakers from local\, regional and international levels as well as exhibit companies from around the world to highlight capabilities\, experiences and lessons learnt. \n  \n  \nInternational Search and Rescue Conference & Exhibition (INSRC 2024) \n\n\n12 – 14 February 2024\nLocation:ICC Abu Dhabi\, Hall 11\nEvent Type:Exhibition & Conference\nParking:Car parking A & B
URL:https://madeinuaegate.ae/event/international-search-and-rescue-conference-exhibition-insrc-2024/
ATTACH;FMTTYPE=image/jpeg:https://madeinuaegate.ae/wp-content/uploads/2024/02/YXNzZXRzL2V2ZW50cy9ldmVudHMtMjAyNC9pbnRlcm5hdGlvbmFsc2VhcmNoYW5kcmVzY3VlY29uZmVyZW5jZWFuZGV4aGliaXRpb24vaW50ZXJuYXRpb25hbC1zZWFyY2gtYW5kLXJlc2N1ZS1jb25mZXJlbmNlLSYtZXhoaWJpdGlvbi0oaW5zcmMtMjAyNCku.jpeg
END:VEVENT
END:VCALENDAR