BEGIN:VCALENDAR
VERSION:2.0
PRODID:-//Made in UAE Gate | منصة صنع في الامارت - ECPv6.9.0//NONSGML v1.0//EN
CALSCALE:GREGORIAN
METHOD:PUBLISH
X-WR-CALNAME:Made in UAE Gate | منصة صنع في الامارت
X-ORIGINAL-URL:https://madeinuaegate.ae
X-WR-CALDESC:Events for Made in UAE Gate | منصة صنع في الامارت
REFRESH-INTERVAL;VALUE=DURATION:PT1H
X-Robots-Tag:noindex
X-PUBLISHED-TTL:PT1H
BEGIN:VTIMEZONE
TZID:UTC
BEGIN:STANDARD
TZOFFSETFROM:+0000
TZOFFSETTO:+0000
TZNAME:UTC
DTSTART:20240101T000000
END:STANDARD
END:VTIMEZONE
BEGIN:VEVENT
DTSTART;TZID=UTC:20240228T080000
DTEND;TZID=UTC:20240229T170000
DTSTAMP:20260423T053908
CREATED:20240205T121734Z
LAST-MODIFIED:20240205T121734Z
UID:2865-1709107200-1709226000@madeinuaegate.ae
SUMMARY:CyberOT Secure Summit 2024
DESCRIPTION:The CyberOT Secure Summit represents a pivotal milestone in the cybersecurity realm\, an event envisioned and crafted to be a transformative force in the convergence of Information Technology (IT) and Operational Technology (OT) security. Dubai Silicon Oasisâ€™s esteemed patronage underscores the significance of this summit\, positioning it as an influential hub where innovation meets necessity to fortify the very backbone of our interconnected world. \nCrafted with meticulous attention to detail\, this ground-breaking summit spans two immersive days dedicated to shaping the future of cybersecurity. It serves as an indispensable platform\, drawing together a consortium of cybersecurity professionals\, industry trailblazers\, and technology aficionados united by a common goal: to fortify the resilience of critical systems against an evolving landscape of cyber threats. \n\n\n\n\n\n\n\nHub ofÂ Innovation\n\n\n\n\n\n\n\nDubai Silicon Oasis is a Special Economic Zone focussed on Knowledge and Innovation with a particular emphasis on Industry 4.0 technologies.Â  It is a hub for more than 22\,000 companies ranging from multinationals to SMEs and is home to Dubaiâ€™s largest technology startup ecosystem. \nDubai Silicon Oasis is also an educational hub\, hosting a leading STEM and business university (Rochester Institute of Technology) alongside dozens of research and development and training centres\, making it a magnet for talent and cutting-edge technologies. \nCybersecurity Focus:Â Several leading cybersecurity firms have their base in Dubai Silicon Oasis\, creating a unique concentration of expertise and collaboration opportunities. \nDedicated Infrastructure:Â Dubai Silicon Oasis offers state-of-the-art infrastructure\, including secure data centers and high-speed connectivity. \n\n\n\n\n\n\n\n\n\n\n\n\n\n\n\n\n\n\n\n\n\n\n\n\n\n\n\n\n\n\n\n\n\n\n\n\n\n\n\n\n\n\nStrategic Location\n\n\n\n\n\n\nGlobal Gateway:Â Dubai Silicon Oasisâ€™ convenient location in Dubai provides easy access to international markets and locations across the UAE\nGovernment Support: As a government economic zone and through partnership with multiple government entities\, Dubai Silicon Oasis offers strong logistical and promotional support.Â  As a dedicated test bed for future technologies\, Dubai Silicon Oasis is the ideal partner for businesses providing breakthrough technologies.\nIndustry Associations:Â Dubai Silicon Oasis has established several industry associations in future focused technologies to embed knowledge and innovation and support its members with exponential growth.\nModern Amenities:Â Dubai Silicon Oasis boasts a vibrant community with hotels\, restaurants\, and leisure facilities\, offering a comfortable and stimulating environment for businesses and families.\nNetworking Opportunities:Â Dubai Silicon Oasisâ€™ diverse community provides exceptional networking opportunities for businesses\, investors\, and individuals.
URL:https://madeinuaegate.ae/event/cyberot-secure-summit-2024/
ATTACH;FMTTYPE=image/png:https://madeinuaegate.ae/wp-content/uploads/2024/02/download-5.png
END:VEVENT
BEGIN:VEVENT
DTSTART;TZID=UTC:20240228T150000
DTEND;TZID=UTC:20240303T200000
DTSTAMP:20260423T053908
CREATED:20240205T121738Z
LAST-MODIFIED:20240205T121738Z
UID:2903-1709132400-1709496000@madeinuaegate.ae
SUMMARY:Dubai International Boat Show
DESCRIPTION:THE REGIONâ€™S LARGEST MARINE LIFESTYLE SHOW\n\n\nSince its inception in 1992 as a modest event focused on the local maritime industry\, Dubai International Boat Show (DIBS) has grown in size and popularity to become one of the worldâ€™s most prestigious boat shows.\nIn the past three decades\, the event has evolved into one of the largest and most established boating events in the Middle East with an unwavering commitment to provide an unforgettable experience. With its 30th edition\, youâ€™ll experience the craftsmanship of the worldâ€™s premier boatbuilders\, the adrenaline rush of watersports\, and the excitement of refined living â€“ from aviation and supercars to high-end fashion and marine-inspired art.\n  \n 
URL:https://madeinuaegate.ae/event/dubai-international-boat-show/
ATTACH;FMTTYPE=image/jpeg:https://madeinuaegate.ae/wp-content/uploads/2024/02/download-7.jpeg
END:VEVENT
BEGIN:VEVENT
DTSTART;TZID=UTC:20240305T080000
DTEND;TZID=UTC:20240307T170000
DTSTAMP:20260423T053908
CREATED:20240205T121914Z
LAST-MODIFIED:20240205T121914Z
UID:2868-1709625600-1709830800@madeinuaegate.ae
SUMMARY:DEAL 2024 - Dubai Entertainment\, Amusement & Leisure Expo
DESCRIPTION:DEAL 2024 – Dubai Entertainment\, Amusement & Leisure ExpoÂ is an exhibition that presents products and services in categories such as: \n\nAmusement rides\nAdmission systems\nComputer systems & software\nCoin operated machines\nEntertainment\nConsultants : construction\nFood & beverages\nFacilities & ground products\nHotels & resorts\nGames & devices\nHigh-tech equipment & effects\nGift & souvenirs\nMuseums\nLeisure products & services\nPeople moving equipments\nParticipation play equipment\nSecurity and safety\nPhotography\nTheatrical equipment & supplies\nShow productions\nTourist attractions\nThemed retail and entertainment\nTrade associations\nTrade publications\nWater related products & services\nVending machines\nE – gaming\n\nDEAL 2024 – Dubai Entertainment\, Amusement & Leisure Expo brings together: \n\nArchitects \, Developers & Designers\nManagers\, Owners\, staff and Operators of all types of family entertainment and leisure attractions facilities\, both indoor and outdoor\nFood & Beverage Managers\nContractors & Consultants\nTourism Operators\nInvestors and Entrepreneurs\nReal Estate Developers\nMall and Retail Managers\nDecision-makers and staff in: Municipal & Local Authorities\, Hotels \, Country Clubs & Resorts\, Playgrounds & Leisure Centers\, Museums\, Swimming Pools\, Recreational Outlets\, Theme Parks & Attractions and Theaters & Cinemas
URL:https://madeinuaegate.ae/event/deal-2024-dubai-entertainment-amusement-leisure-expo/
ATTACH;FMTTYPE=image/jpeg:https://madeinuaegate.ae/wp-content/uploads/2024/02/download-8.jpeg
END:VEVENT
BEGIN:VEVENT
DTSTART;TZID=UTC:20240506T080000
DTEND;TZID=UTC:20240509T170000
DTSTAMP:20260423T053908
CREATED:20240205T121754Z
LAST-MODIFIED:20240205T121754Z
UID:2869-1714982400-1715274000@madeinuaegate.ae
SUMMARY:Arabian Travel Market
DESCRIPTION:The gateway to global travel and tourism growth\n\n\n\nArabian Travel Market is the gateway to truly global travel and tourism growth. For over three decades\, there has been one goal – unlocking business potential for the travel trade industry. \nATM is the single event that unites all travel sectors and verticals. So\, whether youâ€™re aiming to grow the MICE\, leisure\, luxury\, or corporate travel side of your business\, ATM has you covered. The show grows as fast as the markets it serves\, generating $2.5 billion in deals\, meaning there is no better place to unlock your businessâ€™s potential. \nThe gateway between old and new and the legendary home of hospitality\, here we have seen inspiration take flight. ATM is for the true pioneers of progress in travel and tourism. Step onto the global platform and put your business on a fast-track to making meaningful connections\, forging successful partnerships and maximizing growth. \n\n\n\n\n\n\n\n\n\nOver 30 years of industry knowledge\n\n\n\nArabian Travel Market is the leading global event for the inbound and outbound travel industry in the Middle East. Get ready to join the global community of travel professionals from leisure\, MICE\, luxury and corporate travel as we dive into the latest industry trends and innovations. For over 30 years\, our annual event has connected products and destinations from around the world with buyers and travel trade visitors at the Dubai World Trade Centre. \nFollowing the unveiling of ATM’s dedicated sustainability pledge in 2023\, we continue to work to make ATM even more sustainable\, and achieve the ambitious long term goals\, as we work towards net zero while mapping out the future of the industry and exploring new trends\, opportunities for growth and innovation.
URL:https://madeinuaegate.ae/event/arabian-travel-market/
ATTACH;FMTTYPE=image/png:https://madeinuaegate.ae/wp-content/uploads/2024/02/download-7.png
END:VEVENT
END:VCALENDAR